BEGIN:VCALENDAR
VERSION:2.0
PRODID:-//Solas - ECPv6.15.20//NONSGML v1.0//EN
CALSCALE:GREGORIAN
METHOD:PUBLISH
X-WR-CALNAME:Solas
X-ORIGINAL-URL:https://www.solas-cpc.org
X-WR-CALDESC:Events for Solas
REFRESH-INTERVAL;VALUE=DURATION:PT1H
X-Robots-Tag:noindex
X-PUBLISHED-TTL:PT1H
BEGIN:VTIMEZONE
TZID:Europe/London
BEGIN:DAYLIGHT
TZOFFSETFROM:+0000
TZOFFSETTO:+0100
TZNAME:BST
DTSTART:20210328T010000
END:DAYLIGHT
BEGIN:STANDARD
TZOFFSETFROM:+0100
TZOFFSETTO:+0000
TZNAME:GMT
DTSTART:20211031T010000
END:STANDARD
BEGIN:DAYLIGHT
TZOFFSETFROM:+0000
TZOFFSETTO:+0100
TZNAME:BST
DTSTART:20220327T010000
END:DAYLIGHT
BEGIN:STANDARD
TZOFFSETFROM:+0100
TZOFFSETTO:+0000
TZNAME:GMT
DTSTART:20221030T010000
END:STANDARD
BEGIN:DAYLIGHT
TZOFFSETFROM:+0000
TZOFFSETTO:+0100
TZNAME:BST
DTSTART:20230326T010000
END:DAYLIGHT
BEGIN:STANDARD
TZOFFSETFROM:+0100
TZOFFSETTO:+0000
TZNAME:GMT
DTSTART:20231029T010000
END:STANDARD
END:VTIMEZONE
BEGIN:VEVENT
DTSTART;TZID=Europe/London:20220514T100000
DTEND;TZID=Europe/London:20220514T160000
DTSTAMP:20260420T181523
CREATED:20211216T121316Z
LAST-MODIFIED:20220331T112110Z
UID:39767-1652522400-1652544000@www.solas-cpc.org
SUMMARY:Confident Christianity Conference - Belfast\, Stranmillis Evangelical Presbyterian Church
DESCRIPTION:Do you find the thought of talking about Jesus to friends\, neighbours\, classmates or colleagues daunting? Do you sometimes find yourself thinking “what if I say something that makes God look bad?” Or wondering what happens if they raise a challenging question or objection to which you’re unable to respond. \nWell\, you’re not alone! In the fast-paced\, sceptical and secular culture in which we live\, most of us find evangelism a bit daunting. That’s why Solas is partnering with Stranmillis Evangelical Presbyterian Church for a Confident Christianity Conference. Andy Bannister\, Andy Moore and Gareth Black will help you become confident and empowered to talk about Jesus more naturally\, engage in evangelism that persuades people\, and feel equipped to answer the questions of your friends. \nTickets are £12 (or £10 Early Bird Special if you order before the end of March)  (£5 optional Lunch also available). Order tickets on Eventbrite or Facebook. \n14th May 2022 \n\n\n\n\n\n\n09:30\nDoors Open\, Arrivals\, Admissions\n\n\n10:00\nWelcome\, Overview of Day\, Worship Song\n\n\n10:10\nDevotion – Minister – Short intro to first speaker\n\n\n10:20\nHow to Share your Faith without Getting Fired or Cancelled – Andy Bannister\n\n\n10:45\nStretch – Introduce next speaker\n\n\n10:50\nSharing your Faith in a Post-COVID World – Andy Moore\n\n\n11:15\nSolas – The work of Solas\, book offer\, book signing\n\n\n11:25\nCoffee / Tea Break : Book Signing at book stall.\n\n\n11:50\nWould the World be a Better Place Without Religion? – Gareth Black\n\n\n12:15\nBookstall Book plug\n\n\n12:20\nLunch (50 minutes)\n\n\n01:10\nGather after Lunch\, Worship Song\n\n\n01:15\nTrusting Jesus in Troubled Times – Andy Moore\n\n\n01:40\nIs the God of the Old Testament a Moral Monster? – Gareth Black\n\n\n02:05\nFeedback forms and short stretch break\n\n\n02:15\nWhat’s so special about Jesus? – Andy Bannister\n\n\n02:40\nCoffee Break\n\n\n03:00\nQ&A\, Emcee and all speakers\n\n\n03:50\nWorship song 3\, prayer\, close
URL:https://www.solas-cpc.org/event/belfast/
LOCATION:Stranmills Evangelical Presbyterian Church\, 36 Stranmills Road\, Belfast\, Northern Ireland\, BT9 5AH\, United Kingdom
CATEGORIES:Confident Christianity Conference
ATTACH;FMTTYPE=image/jpeg:https://www.solas-cpc.org/wp-content/uploads/2022/01/Stranmillis-CCC.jpg
ORGANIZER;CN="Stranmillis Evangelical Presbyterian Church":MAILTO:stranmillisepc@gmail.com
END:VEVENT
BEGIN:VEVENT
DTSTART;TZID=Europe/London:20220521T093000
DTEND;TZID=Europe/London:20220521T130000
DTSTAMP:20260420T181523
CREATED:20211216T115052Z
LAST-MODIFIED:20220214T114603Z
UID:39760-1653125400-1653138000@www.solas-cpc.org
SUMMARY:Confident Christianity Half Day Conference - Grantown on Spey
DESCRIPTION:Do you find the thought of talking about Jesus to friends\, neighbours\, classmates or colleagues daunting? Do you sometimes find yourself thinking “what if I say something that makes God look bad?” Or wondering what happens if they raise a challenging question or objection to which you’re unable to respond. (“Aren’t Christians bigoted and homophobic?”; “Isn’t the Bible unreliable and full of errors?”; “Hasn’t science buried God?”; “Isn’t religion just a psychological crutch?” … and the list goes on). \nWell\, you’re not alone! In the fast-paced\, sceptical and secular culture in which we live\, most of us find evangelism a bit daunting. That’s why Solas is partnering with Hope Church Aviemore to reach the whole of the Spey Valley through a Confident Christianity Half Day Conference. Andy Bannister and Gavin Matthews will be speaking at the Grantown-on-Spey YMCA Community Centre  and they’ll help you become confident and empowered to talk about Jesus more naturally\, engage in evangelism that persuades people\, and feel equipped to answer the questions of your friends. \nAs the popular evangelist J John once said: “Many times Christians are like arctic rivers. They have frozen mouths.” Come along to a Confident Christianity conference and de-thaw! \n21st May 2022 @ 9:30 \nTickets are £10. Order Tickets Here \n\n\n\n\n\n\n09:00\nDoors Open\, Arrivals\, Admissions\n\n\n09:30\nWelcome\, Overview of Day\, Health and Safety\, Fire Exits\, Worship Song\n\n\n09:35\nDevotion – Minister – and Prayer – Short intro to first speaker\n\n\n09:45\nTalk 1 – How to Share your Faith without Getting Fired – Andy Bannister\n\n\n10:10\nStretch – Introduce next speaker\n\n\n10:15\nTalk 2 – God’s Cure for Humanity’s Problem – Gavin Matthews\n\n\n10:40\nSolas – The work of Solas\, book offer\, book signing – Andy\n\n\n10:50\nCoffee / Tea Break.  Book Signing at book stall.\n\n\n11:20\nTalk 3 – Is Christianity Bad for the Environment? – Andy Bannister\n\n\n11:45\nStretch\n\n\n11:50\nQ&A\n\n\n12:50\nWorship Song and prayer to close
URL:https://www.solas-cpc.org/event/grantown-on-spey/
LOCATION:YMCA Community Centre – Grantown\, 80 High St\, Grantown-on-Spey\, PH26 3EL
CATEGORIES:Confident Christianity Conference
ATTACH;FMTTYPE=image/jpeg:https://www.solas-cpc.org/wp-content/uploads/2021/12/Grantown-CCC1.jpg
ORGANIZER;CN="Hope Church Aviemore":MAILTO:aviemorechurch@gmail.com
END:VEVENT
END:VCALENDAR