BEGIN:VCALENDAR
VERSION:2.0
PRODID:-//Solas - ECPv6.15.20//NONSGML v1.0//EN
CALSCALE:GREGORIAN
METHOD:PUBLISH
X-ORIGINAL-URL:https://www.solas-cpc.org
X-WR-CALDESC:Events for Solas
REFRESH-INTERVAL;VALUE=DURATION:PT1H
X-Robots-Tag:noindex
X-PUBLISHED-TTL:PT1H
BEGIN:VTIMEZONE
TZID:Europe/London
BEGIN:DAYLIGHT
TZOFFSETFROM:+0000
TZOFFSETTO:+0100
TZNAME:BST
DTSTART:20180325T010000
END:DAYLIGHT
BEGIN:STANDARD
TZOFFSETFROM:+0100
TZOFFSETTO:+0000
TZNAME:GMT
DTSTART:20181028T010000
END:STANDARD
BEGIN:DAYLIGHT
TZOFFSETFROM:+0000
TZOFFSETTO:+0100
TZNAME:BST
DTSTART:20190331T010000
END:DAYLIGHT
BEGIN:STANDARD
TZOFFSETFROM:+0100
TZOFFSETTO:+0000
TZNAME:GMT
DTSTART:20191027T010000
END:STANDARD
BEGIN:DAYLIGHT
TZOFFSETFROM:+0000
TZOFFSETTO:+0100
TZNAME:BST
DTSTART:20200329T010000
END:DAYLIGHT
BEGIN:STANDARD
TZOFFSETFROM:+0100
TZOFFSETTO:+0000
TZNAME:GMT
DTSTART:20201025T010000
END:STANDARD
END:VTIMEZONE
BEGIN:VEVENT
DTSTART;VALUE=DATE:20190705
DTEND;VALUE=DATE:20190708
DTSTAMP:20260425T012239
CREATED:20190403T105607Z
LAST-MODIFIED:20210428T144004Z
UID:12432-1562284800-1562543999@www.solas-cpc.org
SUMMARY:Cedarwood Festival
DESCRIPTION:Cedarwood Festival is a new 3 day independent festival launching in 2019\, with a vision to see people gather to worship from all denominations and demographics\, to build community\, foster unity within the body of Christ\, and see Jesus’ name lifted high in this nation. The 72 hour gathering will play host to biblical teaching\, non stop worship\, prayer & community for all ages\, with representations and expressions of worship from all over the UK. Andy Bannister will be partnering with Sharon Dirckx from the Oxford Centre for Christian Apologetics as keynote speakers on Unity\, Evangelism and Justice. https://youtu.be/mwqhQgqd8R4
URL:https://www.solas-cpc.org/event/cedarwood-festival/
CATEGORIES:Convention
ATTACH;FMTTYPE=image/jpeg:https://www.solas-cpc.org/wp-content/uploads/2019/04/Cedarwood-Festival-logo-e1554288918634.jpg
END:VEVENT
END:VCALENDAR