BEGIN:VCALENDAR
VERSION:2.0
PRODID:-//Solas - ECPv6.15.20//NONSGML v1.0//EN
CALSCALE:GREGORIAN
METHOD:PUBLISH
X-WR-CALNAME:Solas
X-ORIGINAL-URL:https://www.solas-cpc.org
X-WR-CALDESC:Events for Solas
REFRESH-INTERVAL;VALUE=DURATION:PT1H
X-Robots-Tag:noindex
X-PUBLISHED-TTL:PT1H
BEGIN:VTIMEZONE
TZID:Europe/London
BEGIN:DAYLIGHT
TZOFFSETFROM:+0000
TZOFFSETTO:+0100
TZNAME:BST
DTSTART:20200329T010000
END:DAYLIGHT
BEGIN:STANDARD
TZOFFSETFROM:+0100
TZOFFSETTO:+0000
TZNAME:GMT
DTSTART:20201025T010000
END:STANDARD
BEGIN:DAYLIGHT
TZOFFSETFROM:+0000
TZOFFSETTO:+0100
TZNAME:BST
DTSTART:20210328T010000
END:DAYLIGHT
BEGIN:STANDARD
TZOFFSETFROM:+0100
TZOFFSETTO:+0000
TZNAME:GMT
DTSTART:20211031T010000
END:STANDARD
BEGIN:DAYLIGHT
TZOFFSETFROM:+0000
TZOFFSETTO:+0100
TZNAME:BST
DTSTART:20220327T010000
END:DAYLIGHT
BEGIN:STANDARD
TZOFFSETFROM:+0100
TZOFFSETTO:+0000
TZNAME:GMT
DTSTART:20221030T010000
END:STANDARD
END:VTIMEZONE
BEGIN:VEVENT
DTSTART;TZID=Europe/London:20211127T100000
DTEND;TZID=Europe/London:20211127T120000
DTSTAMP:20260421T001822
CREATED:20211111T114931Z
LAST-MODIFIED:20211111T114931Z
UID:39513-1638007200-1638014400@www.solas-cpc.org
SUMMARY:Confident Christianity Morning - St Peter's Free Church Dundee
DESCRIPTION:Andy Bannister will be the featured speaker for this morning conference at St Peter’s Free Church in Dundee. There will be two talks followed by Q&A. \n“How to Share your Faith without Getting Fired or Cancelled” \n“Why Does a Loving God Permit Suffering?”
URL:https://www.solas-cpc.org/event/confident-christianity-morning-st-peters-free-church-dundee/
LOCATION:St Peter’s Free Church\, 4 St Peter Street\, Dundee\, DD1 4JJ\, United Kingdom
CATEGORIES:Confident Christianity Conference
ATTACH;FMTTYPE=image/jpeg:https://www.solas-cpc.org/wp-content/uploads/2021/11/Andy-at-St-Peters-27-Nov-10am.jpg
END:VEVENT
END:VCALENDAR