BEGIN:VCALENDAR
VERSION:2.0
PRODID:-//Solas - ECPv6.15.20//NONSGML v1.0//EN
CALSCALE:GREGORIAN
METHOD:PUBLISH
X-WR-CALNAME:Solas
X-ORIGINAL-URL:https://www.solas-cpc.org
X-WR-CALDESC:Events for Solas
REFRESH-INTERVAL;VALUE=DURATION:PT1H
X-Robots-Tag:noindex
X-PUBLISHED-TTL:PT1H
BEGIN:VTIMEZONE
TZID:Europe/London
BEGIN:DAYLIGHT
TZOFFSETFROM:+0000
TZOFFSETTO:+0100
TZNAME:BST
DTSTART:20210328T010000
END:DAYLIGHT
BEGIN:STANDARD
TZOFFSETFROM:+0100
TZOFFSETTO:+0000
TZNAME:GMT
DTSTART:20211031T010000
END:STANDARD
BEGIN:DAYLIGHT
TZOFFSETFROM:+0000
TZOFFSETTO:+0100
TZNAME:BST
DTSTART:20220327T010000
END:DAYLIGHT
BEGIN:STANDARD
TZOFFSETFROM:+0100
TZOFFSETTO:+0000
TZNAME:GMT
DTSTART:20221030T010000
END:STANDARD
BEGIN:DAYLIGHT
TZOFFSETFROM:+0000
TZOFFSETTO:+0100
TZNAME:BST
DTSTART:20230326T010000
END:DAYLIGHT
BEGIN:STANDARD
TZOFFSETFROM:+0100
TZOFFSETTO:+0000
TZNAME:GMT
DTSTART:20231029T010000
END:STANDARD
END:VTIMEZONE
BEGIN:VEVENT
DTSTART;TZID=Europe/London:20220920T190000
DTEND;TZID=Europe/London:20220920T210000
DTSTAMP:20260420T080434
CREATED:20221215T102503Z
LAST-MODIFIED:20221215T104534Z
UID:42953-1663700400-1663707600@www.solas-cpc.org
SUMMARY:Confident Christianity Evening Session - Forres
DESCRIPTION:Do you find the thought of talking about Jesus to friends\, neighbours\, classmates or colleagues daunting? \nDo you sometimes find yourself thinking “what if I say something that makes God look bad?” Or wondering what happens if they raise a challenging question or objection to which you’re unable to respond? \nWell\, you’re not alone! In the fast-paced\, sceptical and secular culture in which we live\, most of us find evangelism a bit daunting. That’s why Solas is partnering with Forres Baptist Church for a Confident Christianity Evening Session. We will help you become confident and empowered to talk about Jesus more naturally\, engage in evangelism that persuades people\, and feel equipped to answer the questions of your friends. \nConfident Christianity Evening Session – Sharing the Gospel in an Age of Uncertainty will be held on Tuesday the 20th of September 2022 from 7:00pm – 9:00pm (Doors open at 6:30). Speaker Andy Bannister will share the following talks plus you’ll be able to ask your questions directly during the Q&A. \n\nHow to share your faith without getting fired or cancelled\nFive steps for answering any tough question\n\nYou are warmly invited to join us for this exciting event aimed to help you share the good news of Jesus with the people in your life. \nThis is a free event! \nCome join us on the 20th of September 2022! \n\n\n\n\n\n\n 18:30\n Doors Open\, Arrivals\, Admissions\, Coffee and Tea Served.\n\n\n 19:00\n Welcome\, worship song and prayer\n\n\n 19:10\n How to Share your Faith without looking like an Idiot – Andy Bannister\n\n\n 19:45\n Stretch and comfort break\n\n\n 19:55\n Five Steps for Answering Any Tough Question – Andy Bannister\n\n\n 20:20\n Q&A\n\n\n 20:55\n Worship song and prayer
URL:https://www.solas-cpc.org/event/forres-2022/
LOCATION:Forres Baptist Church\, Clovenside Rd\, Forres\, IV36 3BT\, United Kingdom
CATEGORIES:Confident Christianity Conference
ATTACH;FMTTYPE=image/jpeg:https://www.solas-cpc.org/wp-content/uploads/2022/06/Forres-Baptist-CCC.jpg
ORGANIZER;CN="Forres Baptist Church":MAILTO:contactforresbaptist@gmail.com
END:VEVENT
BEGIN:VEVENT
DTSTART;TZID=Europe/London:20220921T190000
DTEND;TZID=Europe/London:20220921T210000
DTSTAMP:20260420T080434
CREATED:20220714T105129Z
LAST-MODIFIED:20220721T150857Z
UID:40983-1663786800-1663794000@www.solas-cpc.org
SUMMARY:Confident Christianity Evening Session - Ellon
DESCRIPTION:Do you find the thought of talking about Jesus to friends\, neighbours\, classmates or colleagues daunting? \nDo you sometimes find yourself thinking “what if I say something that makes God look bad?” Or wondering what happens if they raise a challenging question or objection to which you’re unable to respond? \nWell\, you’re not alone! In the fast-paced\, sceptical and secular culture in which we live\, most of us find evangelism a bit daunting. That’s why Solas is partnering with Ellon Baptist Church for a Confident Christianity Evening Session. We will help you become confident and empowered to talk about Jesus more naturally\, engage in evangelism that persuades people\, and feel equipped to answer the questions of your friends. \nConfident Christianity Evening Session – Sharing the Gospel in an Age of Uncertainty will be held on Wednesday the 21st of September 2022 from 7:00pm – 9:00pm (Doors open at 6:30 with tea and coffee provided then). Speaker Andy Bannister will share the following talks plus you’ll be able to ask your questions directly during the Q&A. \n\nHow to share your faith without getting fired or cancelled\nGood God / bad world? Why does a loving God permit suffering?\n\nYou are warmly invited to join us for this exciting event aimed to help you share the good news of Jesus with the people in your life. \nThis is a free event! \nCome join us on the 21st of September 2022! \n\n\n\n\n\n\n18:30\nDoors Open\, Coffee and Tea Served\n\n\n19:00\nWelcome and worship\n\n\n19:10\nHow to share your faith without getting fired or cancelled – Andy Bannister\n\n\n19:45\nShort break\n\n\n19:55\nGood God / bad world? Why does a loving God permit suffering? – Andy\n\n\n20:20\nQ&A\n\n\n20:55\nClose with worship and prayer
URL:https://www.solas-cpc.org/event/ellon/
LOCATION:Ellon Baptist Church\, Station Road\, Ellon\, AB41 9AE
CATEGORIES:Confident Christianity Conference
ATTACH;FMTTYPE=image/jpeg:https://www.solas-cpc.org/wp-content/uploads/2022/07/Ellon-Baptist-CCC.jpg
ORGANIZER;CN="Ellon Baptist Church":MAILTO:Ellonbaptistchurchminister@gmail.com
END:VEVENT
BEGIN:VEVENT
DTSTART;TZID=Europe/London:20220924T090000
DTEND;TZID=Europe/London:20220924T130000
DTSTAMP:20260420T080434
CREATED:20220627T084554Z
LAST-MODIFIED:20220922T122402Z
UID:40987-1664010000-1664024400@www.solas-cpc.org
SUMMARY:Confident Christianity Half Day Conference - Kiltarlity
DESCRIPTION:Do you find the thought of talking about Jesus to friends\, neighbours\, classmates or colleagues daunting? \nDo you sometimes find yourself thinking “what if I say something that makes God look bad?” Or wondering what happens if they raise a challenging question or objection to which you’re unable to respond? \nWell\, you’re not alone! In the fast-paced\, sceptical and secular culture in which we live\, most of us find evangelism a bit daunting. That’s why Solas is partnering with Kiltarlity Free Church for a Confident Christianity Half Day Conference. We will help you become confident and empowered to talk about Jesus more naturally\, engage in evangelism that persuades people\, and feel equipped to answer the questions of your friends. \nConfident Christianity Half Day Conference – Sharing the Gospel in an Age of Uncertainty will be held on Saturday the 24th of September 2022 from 9:00am – 13:00pm (Doors open at 8:30). Speaker Andy Bannister\, Clare Williams and Gavin Matthews will share the following talks plus you’ll be able to ask your questions directly during the Q&A. \n\nEvangelism to the Apathetic\nDoes Jesus matter in our age of moral outrage?\nPersuasive Evangelism: a Biblical Model?\n\nYou are warmly invited to join us for this exciting event aimed to help you share the good news of Jesus with the people in your life. \nTickets are £10\, Under 18’s are FREE. Buy tickets here: http://bit.ly/SolasKFC \nCome join us on the 24th of September 2022!
URL:https://www.solas-cpc.org/event/kiltarlity/
LOCATION:Kiltarlity Free Church\, Post Office Brae\, Camault Muir\, Beauly\, IV4 7JQ
CATEGORIES:Confident Christianity Conference
ATTACH;FMTTYPE=image/jpeg:https://www.solas-cpc.org/wp-content/uploads/2022/03/Kiltarlity-FC-CCC.jpg
ORGANIZER;CN="Kiltarlity Free Church":MAILTO:https://kiltarlityfreechurch.org/contact/
END:VEVENT
END:VCALENDAR