BEGIN:VCALENDAR
VERSION:2.0
PRODID:-//Solas - ECPv6.15.20//NONSGML v1.0//EN
CALSCALE:GREGORIAN
METHOD:PUBLISH
X-WR-CALNAME:Solas
X-ORIGINAL-URL:https://www.solas-cpc.org
X-WR-CALDESC:Events for Solas
REFRESH-INTERVAL;VALUE=DURATION:PT1H
X-Robots-Tag:noindex
X-PUBLISHED-TTL:PT1H
BEGIN:VTIMEZONE
TZID:Europe/London
BEGIN:DAYLIGHT
TZOFFSETFROM:+0000
TZOFFSETTO:+0100
TZNAME:BST
DTSTART:20210328T010000
END:DAYLIGHT
BEGIN:STANDARD
TZOFFSETFROM:+0100
TZOFFSETTO:+0000
TZNAME:GMT
DTSTART:20211031T010000
END:STANDARD
BEGIN:DAYLIGHT
TZOFFSETFROM:+0000
TZOFFSETTO:+0100
TZNAME:BST
DTSTART:20220327T010000
END:DAYLIGHT
BEGIN:STANDARD
TZOFFSETFROM:+0100
TZOFFSETTO:+0000
TZNAME:GMT
DTSTART:20221030T010000
END:STANDARD
BEGIN:DAYLIGHT
TZOFFSETFROM:+0000
TZOFFSETTO:+0100
TZNAME:BST
DTSTART:20230326T010000
END:DAYLIGHT
BEGIN:STANDARD
TZOFFSETFROM:+0100
TZOFFSETTO:+0000
TZNAME:GMT
DTSTART:20231029T010000
END:STANDARD
END:VTIMEZONE
BEGIN:VEVENT
DTSTART;TZID=Europe/London:20221001T100000
DTEND;TZID=Europe/London:20221001T160000
DTSTAMP:20260420T061049
CREATED:20220530T094614Z
LAST-MODIFIED:20220609T085222Z
UID:40991-1664618400-1664640000@www.solas-cpc.org
SUMMARY:Keswick Ayrshire: Confident Christianity Conference
DESCRIPTION:Do you find the thought of talking about Jesus to friends\, neighbours\, classmates or colleagues daunting? \nDo you sometimes find yourself thinking “what if I say something that makes God look bad?” Or wondering what happens if they raise a challenging question or objection to which you’re unable to respond? \nWell\, you’re not alone! In the fast-paced\, sceptical and secular culture in which we live\, most of us find evangelism a bit daunting. That’s why Solas is partnering with Keswick Ayrshire for a Confident Christianity Conference. We will help you become confident and empowered to talk about Jesus more naturally\, engage in evangelism that persuades people\, and feel equipped to answer the questions of your friends. \nKeswick Ayrshire: Confident Christianity Conference – Sharing the Gospel in an Age of Uncertainty will be held on Saturday the 1st of October 2022 from 10:00 to 4:00. Speakers Andy Bannister\, Sharon Dirckx and David Hutchings will share the following talks plus you’ll be able to ask them your questions directly during the Q&A. \n\nHow to Share your Faith without Getting Fired or Cancelled\nWhere is God in a Broken World?\nGod and Science: A New Story\nWitnessing to the Apathetic\nIs there anything special about being human?\nGiven all of the options\, Why Jesus?\n\nYou are warmly invited to join us for this exciting event aimed to help you share the good news of Jesus with the people in your life. \nOrder Tickets Here! \nCome join us on the 1st of October 2022!  Here is the approximate running schedule: \n\n\n\n\n\n\n09:30\nDoors Open\, Arrivals\, Admissions\n\n\n10:00\nConference Begins: Overview of Day\, Health and Safety\, Fire Exits\, Worship Song\n\n\n10:10\nDevotion – Minister – Short Introduction to First Speaker\n\n\n10:20\nHow to Share your Faith without Getting Fired or Cancelled – Andy Bannister\n\n\n10:50\nWhere is God in a Broken World? – Sharon Dirckx\n\n\n11:15\nSolas – The work of Solas\, book offer\, book signing\n\n\n11:25\nCoffee / Tea Break : Book Signing at book stall.\n\n\n11:50\nGod and Science: A New Story – David Hutchings\n\n\n12:15\nBookstall Book plug\n\n\n12:20\nLunch\n\n\n01:10\nGather after Lunch\, Worship Song\n\n\n01:15\nWitnessing to the Apathetic – Andy Bannister\n\n\n01:40\nIs there anything special about being human? – Sharon Dirckx\n\n\n02:15\nGiven all of the options\, Why Jesus? – David Hutchings\n\n\n02:40\nCoffee Break\n\n\n03:00\nQ&A with the Speakers\n\n\n03:50\nClosing\, Worship song\, Prayer
URL:https://www.solas-cpc.org/event/ayrshire/
LOCATION:West Kilbride Parish Church\, Main Street\, West Kilbride\, KA23 9AW
CATEGORIES:Confident Christianity Conference
ATTACH;FMTTYPE=image/jpeg:https://www.solas-cpc.org/wp-content/uploads/2022/03/Keswick-Ayrshire-CCC.jpg
END:VEVENT
BEGIN:VEVENT
DTSTART;TZID=Europe/London:20221015T100000
DTEND;TZID=Europe/London:20221015T143000
DTSTAMP:20260420T061049
CREATED:20220908T100636Z
LAST-MODIFIED:20220922T120823Z
UID:41606-1665828000-1665844200@www.solas-cpc.org
SUMMARY:Mind the Gap - Confident Christianity Conference
DESCRIPTION:Do you find the thought of talking about Jesus to friends\, neighbours\, classmates or colleagues daunting? \nDo you sometimes find yourself thinking “what if I say something that makes God look bad?” Or wondering what happens if they raise a challenging question or objection to which you’re unable to respond? \nWell\, you’re not alone! In the fast-paced\, sceptical and secular culture in which we live\, most of us find evangelism a bit daunting. That’s why Solas is partnering with Stroudwater Team of Churches for a Confident Christianity Half Day Conference. We will help you become confident and empowered to talk about Jesus more naturally\, engage in evangelism that persuades people\, and feel equipped to answer the questions of your friends. \nMind the Gap – Confident Christianity Half Day Conference – Overcoming our barriers to faithful evangelism will be held on Saturday the 15th of October 2022 from 10:00am – 2:30pm (Tea and Coffee served at 10:00 for start at 10:30). Speaker Andy Bannister will share the following talks plus you’ll be able to ask your questions directly during the Q&A.  Lunch will be provided. \n\nHow to share your faith without getting fired or cancelled\nEvangelism to the apathetic\nQ& A with short answers to tough questions\n\nOur aim for the day is to look at strategies for identifying and overcoming the barriers we face to faithful evangelism – to make us bolder\, braver and more effective witnesses for Jesus. This session will help us identify our own “gaps” – the specific things which hold us back in evangelism and show us the way forward! \nOrder your tickets (includes lunch) here!
URL:https://www.solas-cpc.org/event/gloucestershire/
LOCATION:Lakefield C of E Primary School\, Lake Lane\, Frampton on Severn\, GL2 7HG
CATEGORIES:Confident Christianity Conference
ATTACH;FMTTYPE=image/png:https://www.solas-cpc.org/wp-content/uploads/2022/09/Stroudwater-Gloucester-CCC-featured.png
ORGANIZER;CN="Stroundwater Team of Churches":MAILTO:officestroudwater@gmail.com
END:VEVENT
END:VCALENDAR