BEGIN:VCALENDAR
VERSION:2.0
PRODID:-//Solas - ECPv6.15.20//NONSGML v1.0//EN
CALSCALE:GREGORIAN
METHOD:PUBLISH
X-WR-CALNAME:Solas
X-ORIGINAL-URL:https://www.solas-cpc.org
X-WR-CALDESC:Events for Solas
REFRESH-INTERVAL;VALUE=DURATION:PT1H
X-Robots-Tag:noindex
X-PUBLISHED-TTL:PT1H
BEGIN:VTIMEZONE
TZID:Europe/London
BEGIN:DAYLIGHT
TZOFFSETFROM:+0000
TZOFFSETTO:+0100
TZNAME:BST
DTSTART:20230326T010000
END:DAYLIGHT
BEGIN:STANDARD
TZOFFSETFROM:+0100
TZOFFSETTO:+0000
TZNAME:GMT
DTSTART:20231029T010000
END:STANDARD
BEGIN:DAYLIGHT
TZOFFSETFROM:+0000
TZOFFSETTO:+0100
TZNAME:BST
DTSTART:20240331T010000
END:DAYLIGHT
BEGIN:STANDARD
TZOFFSETFROM:+0100
TZOFFSETTO:+0000
TZNAME:GMT
DTSTART:20241027T010000
END:STANDARD
BEGIN:DAYLIGHT
TZOFFSETFROM:+0000
TZOFFSETTO:+0100
TZNAME:BST
DTSTART:20250330T010000
END:DAYLIGHT
BEGIN:STANDARD
TZOFFSETFROM:+0100
TZOFFSETTO:+0000
TZNAME:GMT
DTSTART:20251026T010000
END:STANDARD
END:VTIMEZONE
BEGIN:VEVENT
DTSTART;TZID=Europe/London:20241026T100000
DTEND;TZID=Europe/London:20241026T160000
DTSTAMP:20260420T075315
CREATED:20240821T095320Z
LAST-MODIFIED:20241002T113649Z
UID:50239-1729936800-1729958400@www.solas-cpc.org
SUMMARY:Confident Christianity Conference - Ayr
DESCRIPTION:Do you find the thought of talking about Jesus to friends\, neighbours\, classmates or colleagues daunting? \n\n\n\nDo you sometimes find yourself thinking “what if I say something that makes God look bad?” Or wondering what happens if they raise a challenging question or objection to which you’re unable to respond? \n\n\n\nWell\, you’re not alone! In the fast-paced\, sceptical and secular culture in which we live\, most of us find evangelism a bit daunting. That’s why Solas is partnering with Riverside Church – Ayr for a full day Confident Christianity Conference! We will help you become confident and empowered to talk about Jesus more naturally\, engage in evangelism that persuades people\, and feel equipped to answer the questions of your friends. \n\n\n\n\n\n\n\n\n\nConfident Christianity Conference – Sharing the Gospel in an Age of Uncertainty will be held on  Saturday the 26th of October 2024 from 10:00am – 16:00pm (Doors open at 9:30 for a 10:00 start). Speakers Steve Osmond\, Ben Thomas and Gareth Black will share the talks in the schedule below plus you’ll be able to ask your questions directly during the Q&A. \n\n\n\n09:30Doors Open\, Arrivals\, Admissions10:00Welcome\, Overview of Day\, Worship10:10Devotion – Minister – Short intro to first speaker10:20Conversations that Count – Steve Osmond10:50Is the gospel really good news for my LGBT+ neighbour? – Ben Thomas11:25Coffee / Tea Break11:50Hope & Heartache: Where is God in Suffering? – Gareth Black12:15Bookstall Book plug12:20Lunch (50 minutes)13:10Gather after Lunch\, Worship13:15Can science & God co-exist? – Steve13:40How can the church be more welcoming to people who are same-sex attracted without compromising biblical orthodoxy? – Ben14:15Forgiveness in an Age of Outrage – Gareth14:40Coffee Break15:00Q&A15:50Closing\, Worship and prayer\n\n\n\nYou are warmly invited to join us for this exciting event aimed to help you share the good news of Jesus with the people in your life. \n\n\n\nOrder your Tickets here (includes Tea\, Coffee\, Soft Drinks\, Home Baking\, etc – but please bring your own lunch) £10 per person. £5 for students. Please note that there is a full Childrens programme available so that parents can also attend while their children are looked after.  Just register your child(ren) with the free childs ticket. \n\n\n\nCome join us on Saturday the 26th of October 2024! \n\n\n\nFriday Youth Event! Riverside Ayr Church is also hosting a youth event on Friday the 25th of October at 7pm. Steve Osmond will be speaking on ‘Is Belief in God just Blind Faith?’ and all secondary aged youth are welcome. Refreshments served afterwards from 8:30 to 9pm. Please contact Sara Green on sara.green@riverside-ayr.org for more details.
URL:https://www.solas-cpc.org/event/ayr/
LOCATION:Riverside Church – Ayr\, John Street\, Ayr\, KA8 0BS\, United Kingdom
CATEGORIES:Confident Christianity Conference
ATTACH;FMTTYPE=image/jpeg:https://www.solas-cpc.org/wp-content/uploads/2024/08/CCC-Riverside-Ayr-2.jpg
END:VEVENT
END:VCALENDAR